BEGIN:VCALENDAR
VERSION:2.0
PRODID:-//eventon.com NONSGML v1.0//EN
CALSCALE:GREGORIAN
METHOD:PUBLISH
BEGIN:VEVENT
UID:69e5a5a9cc591
DTSTAMP:20260420T040353Z
DTSTART:20250416T090000Z
DTEND:20250416T093000Z
LOCATION:
SUMMARY:Sofia-aamukahvi
DESCRIPTION:Sofia-aamukahvi\nhttps://sofiacrm.fi/events/sofia-aamukahvi/
URL:https://sofiacrm.fi/events/sofia-aamukahvi/
END:VEVENT
END:VCALENDAR