BEGIN:VCALENDAR
VERSION:2.0
PRODID:-//eventon.com NONSGML v1.0//EN
CALSCALE:GREGORIAN
METHOD:PUBLISH
BEGIN:VEVENT
UID:69e5a6fcb15e0
DTSTAMP:20260420T040932Z
DTSTART:20250918T060000Z
DTEND:20250918T073000Z
LOCATION:
SUMMARY:Sofia™ MINI käyttäjäkoulutus
DESCRIPTION:Sofia™ MINI käyttäjäkoulutus\nhttps://sofiacrm.fi/events/s
 ofia-kayttajakoulutus/var/event_access
URL:https://sofiacrm.fi/events/sofia-kayttajakoulutus/var/event_access
END:VEVENT
END:VCALENDAR