BEGIN:VCALENDAR
VERSION:2.0
PRODID:-//eventon.com NONSGML v1.0//EN
CALSCALE:GREGORIAN
METHOD:PUBLISH
BEGIN:VEVENT
UID:69e5a63fe2d8e
DTSTAMP:20260420T040623Z
DTSTART:20260129T063000Z
DTEND:20260129T093000Z
LOCATION:
SUMMARY:Sofia™ Kanta-työpaja
DESCRIPTION:Sofia&#x2122; Kanta-työpaja\nhttps://sofiacrm.fi/events/sofia-
 mini-kanta-tyopaja/
URL:https://sofiacrm.fi/events/sofia-mini-kanta-tyopaja/
END:VEVENT
END:VCALENDAR