BEGIN:VCALENDAR
VERSION:2.0
PRODID:-//eventon.com NONSGML v1.0//EN
CALSCALE:GREGORIAN
METHOD:PUBLISH
BEGIN:VEVENT
UID:69e5ba3fdce71
DTSTAMP:20260420T053143Z
DTSTART:20260422T060000Z
DTEND:20260422T063000Z
LOCATION:
SUMMARY:Sofia™ MINI esittely
DESCRIPTION:https://sofiacrm.fi/ilmoittaudu-esittelyyn/?esittely=21.01.2026
 \nhttps://sofiacrm.fi/events/sofia-mini-esittely/
URL:https://sofiacrm.fi/events/sofia-mini-esittely/
END:VEVENT
END:VCALENDAR